BEGIN:VCALENDAR
VERSION:2.0
PRODID:icalendar-ruby
CALSCALE:GREGORIAN
METHOD:PUBLISH
BEGIN:VEVENT
DTSTAMP:20260421T105704Z
UID:5-357285@royalpriesthoodbikerchurch.com
DTSTART:20260920T170000Z
DTEND:20260920T180000Z
CLASS:PUBLIC
CREATED:20260320T145224
DESCRIPTION:Sunday Worship
LAST-MODIFIED:20260320T145224
LOCATION:
SUMMARY:Sunday Worship
URL;VALUE=URI:https://www.royalpriesthoodbikerchurch.com/events/sunday-wors
 hip/2026-09-20
END:VEVENT
END:VCALENDAR
