BEGIN:VCALENDAR
VERSION:2.0
PRODID:icalendar-ruby
CALSCALE:GREGORIAN
METHOD:PUBLISH
BEGIN:VEVENT
DTSTAMP:20260420T130440Z
UID:5-357272@royalpriesthoodbikerchurch.com
DTSTART:20260621T170000Z
DTEND:20260621T180000Z
CLASS:PUBLIC
CREATED:20260320T145224
DESCRIPTION:Sunday Worship
LAST-MODIFIED:20260320T145224
LOCATION:
SUMMARY:Sunday Worship
URL;VALUE=URI:https://www.royalpriesthoodbikerchurch.com/events/sunday-wors
 hip/2026-06-21
END:VEVENT
END:VCALENDAR
